BEGIN:VCALENDAR
VERSION:2.0
PRODID:DPCALENDAR
CALSCALE:GREGORIAN
BEGIN:VTIMEZONE
TZID:Europe/Berlin
X-MICROSOFT-CDO-TZID:4
BEGIN:STANDARD
DTSTART:20251026T010000
TZOFFSETFROM:+0200
TZOFFSETTO:+0100
TZNAME:CET
END:STANDARD
BEGIN:STANDARD
DTSTART:20261025T010000
TZOFFSETFROM:+0200
TZOFFSETTO:+0100
TZNAME:CET
END:STANDARD
BEGIN:DAYLIGHT
DTSTART:20260329T010000
TZOFFSETFROM:+0100
TZOFFSETTO:+0200
TZNAME:CEST
END:DAYLIGHT
END:VTIMEZONE
X-WR-TIMEZONE:Europe/Berlin
BEGIN:VEVENT
DTSTART;VALUE=DATE:20240315
DTEND;VALUE=DATE:20240317
UID:FAA4B15B-A127-45CA-92D6-B4B175D98059
SUMMARY:59. ADAC-Rallye Erzgebirge
CREATED:20240712T095936Z
DTSTAMP:20240712T095936Z
URL:https://admv.de/index.php/de/motorsport/termine/59-adac-rallye-erzgebirge
LAST-MODIFIED:20240712T095936Z
SEQUENCE:0
LOCATION:Freibadtalstraße\, 09456 Mildenau\, Saxony\, Deutschland
GEO:50.59169150;13.05486302
X-LOCATION-DISPLAYNAME:Ore Mountains
X-ACCESS:1
X-HITS:2663
X-COLOR:0837a3
X-SHOW-END-TIME:1
END:VEVENT
BEGIN:VEVENT
DTSTART;VALUE=DATE:20240323
DTEND;VALUE=DATE:20240324
UID:37817A0B-CC21-4ABD-8772-B07379A8EAA6
SUMMARY:59. ADMV-Rallye Lutherstadt Wittenberg &<br>6. ADMV-Histo-Rallye Lutherstadt Wittenberg
CREATED:20240712T095817Z
DTSTAMP:20240712T095817Z
URL:https://admv.de/index.php/de/motorsport/termine/59-admv-rallye-lutherstadt-wittenberg-6-admv-histo-rallye-lutherstadt-wittenberg
DESCRIPTION:Wertungen für\N\NADMV Rallye Meisterschaft\NADMV Rallye Meisterschaft Sachsen-Anhalt / Berlin-Brandenburg\NADMV Schotter Cup\NADMV Histo Rallye Cup\N
X-ALT-DESC;FMTTYPE=text/html:<p>Wertungen für</p><ul><li>ADMV Rallye Meisterschaft</li><li>ADMV Rallye Meisterschaft Sachsen-Anhalt / Berlin-Brandenburg</li><li>ADMV Schotter Cup</li><li>ADMV Histo Rallye Cup</li></ul>
LAST-MODIFIED:20240712T102413Z
SEQUENCE:1556
LOCATION:Jüdenstraße 31\, 06886 Wittenberg\, Saxony-Anhalt\, Deutschland
GEO:51.86665270;12.64676100
X-LOCATION-DISPLAYNAME:Wittenberg
X-ACCESS:1
X-HITS:3006
X-COLOR:0837a3
X-SHOW-END-TIME:1
END:VEVENT
BEGIN:VEVENT
DTSTART;VALUE=DATE:20240413
DTEND;VALUE=DATE:20240414
UID:578A33B4-33AE-4470-A558-765683E185F7
SUMMARY:52. ADAC-Roland-Rallye &<br>16. ADAC-Roland-Gleichmäßigkeitsprüfung
CREATED:20240712T101246Z
DTSTAMP:20240712T101246Z
URL:https://admv.de/index.php/de/motorsport/termine/52-adac-roland-rallye-16-adac-roland-gleichmaessigkeitspruefung
DESCRIPTION:Wertungen für\N\NADMV Rallye Meisterschaft\NADMV Rallye Meisterschaft Sachsen-Anhalt / Berlin-Brandenburg\NADMV Schotter Cup\NADMV Histo Rallye Cup\N
X-ALT-DESC;FMTTYPE=text/html:<p>Wertungen für</p><ul><li>ADMV Rallye Meisterschaft</li><li>ADMV Rallye Meisterschaft Sachsen-Anhalt / Berlin-Brandenburg</li><li>ADMV Schotter Cup</li><li>ADMV Histo Rallye Cup</li></ul>
LAST-MODIFIED:20240712T102421Z
SEQUENCE:695
X-ACCESS:1
X-HITS:3004
X-COLOR:0837a3
X-SHOW-END-TIME:1
END:VEVENT
BEGIN:VEVENT
DTSTART;VALUE=DATE:20240420
DTEND;VALUE=DATE:20240421
UID:C0FA5746-7F94-4BD0-B8A5-E20313687C13
SUMMARY:60. ADAC-Rallye Wartburg &<br>14. ADAC-Rallye Wartburg historic
CREATED:20240712T101058Z
DTSTAMP:20240712T101058Z
URL:https://admv.de/index.php/de/motorsport/termine/60-adac-rallye-wartburg-14-adac-rallye-wartburg-historic
LAST-MODIFIED:20240712T102429Z
SEQUENCE:811
LOCATION:Markt 23\, 99817 Eisenach\, Thuringia\, Deutschland
GEO:50.97471340;10.31935650
X-LOCATION-DISPLAYNAME:Eisenach
X-ACCESS:1
X-HITS:2980
X-COLOR:0837a3
X-SHOW-END-TIME:1
END:VEVENT
BEGIN:VEVENT
DTSTART;VALUE=DATE:20240518
DTEND;VALUE=DATE:20240519
UID:F8656DE1-0B6C-4A16-A392-7BDA4B9CB306
SUMMARY:24. ADAC-Fontane-Rallye Neuruppin
CREATED:20240712T101534Z
DTSTAMP:20240712T101534Z
URL:https://admv.de/index.php/de/motorsport/termine/24-adac-fontane-rallye-neuruppin
DESCRIPTION:Wertungen für\N\NADMV Rallye Meisterschaft Sachsen-Anhalt / Berlin-Brandenburg\N
X-ALT-DESC;FMTTYPE=text/html:<p>Wertungen für</p><ul><li>ADMV Rallye Meisterschaft Sachsen-Anhalt / Berlin-Brandenburg</li></ul>
LAST-MODIFIED:20240712T101534Z
SEQUENCE:0
LOCATION:Siechenstraße\, 16816 Neuruppin\, Brandenburg\, Deutschland
GEO:52.92438590;12.80929190
X-LOCATION-DISPLAYNAME:Neuruppin
X-ACCESS:1
X-HITS:2931
X-COLOR:0837a3
X-SHOW-END-TIME:1
END:VEVENT
BEGIN:VEVENT
DTSTART;VALUE=DATE:20240622
DTEND;VALUE=DATE:20240623
UID:D1C918B4-43FC-41F1-8458-9DE05A794FDD
SUMMARY:51. ADMV-Osterburg-Rallye & <br> 7. ADMV-Histo-Rallye Osterburg
CREATED:20240712T102329Z
DTSTAMP:20240712T102329Z
URL:https://admv.de/index.php/de/motorsport/termine/51-admv-osterburg-rallye-7-admv-histo-rallye-osterburg
DESCRIPTION:Wertungen für\N\NADMV Rallye Meisterschaft\NADMV Histo Rallye Cup\N
X-ALT-DESC;FMTTYPE=text/html:<p>Wertungen für</p><ul><li>ADMV Rallye Meisterschaft</li><li>ADMV Histo Rallye Cup</li></ul>
LAST-MODIFIED:20240712T102402Z
SEQUENCE:33
LOCATION:Forstweg\, 07570 Weida\, Thuringia\, Deutschland
GEO:50.75814260;12.04700630
X-LOCATION-DISPLAYNAME:Weida
X-ACCESS:1
X-HITS:3134
X-COLOR:0837a3
X-SHOW-END-TIME:1
END:VEVENT
BEGIN:VEVENT
DTSTART;VALUE=DATE:20240720
DTEND;VALUE=DATE:20240721
UID:E42BE5DC-5A3D-4DF8-8000-7DEC10EFCEFC
SUMMARY:11. ADAC-Rallye Bergring Teterow
CREATED:20240712T102726Z
DTSTAMP:20240712T102726Z
URL:https://admv.de/index.php/de/motorsport/termine/11-adac-rallye-bergring-teterow
DESCRIPTION:Wertungen für\N\NADMV Rallye Meisterschaft Sachsen-Anhalt / Berlin-Brandenburg\NADMV Schotter Cup\N
X-ALT-DESC;FMTTYPE=text/html:<p>Wertungen für</p><ul><li>ADMV Rallye Meisterschaft Sachsen-Anhalt / Berlin-Brandenburg</li><li>ADMV Schotter Cup</li></ul>
LAST-MODIFIED:20240712T102825Z
SEQUENCE:59
X-ACCESS:1
X-HITS:2787
X-COLOR:0837a3
X-SHOW-END-TIME:1
END:VEVENT
BEGIN:VEVENT
DTSTART;VALUE=DATE:20240803
DTEND;VALUE=DATE:20240804
UID:6598D007-3D9B-49C4-91F7-B8C72B273FD9
SUMMARY:57. ADAC Holsten-Rally
CREATED:20240712T102648Z
DTSTAMP:20240712T102648Z
URL:https://admv.de/index.php/de/motorsport/termine/57-adac-holsten-rally
DESCRIPTION:Wertungen für\N\NADMV Schotter Cup\N
X-ALT-DESC;FMTTYPE=text/html:<p>Wertungen für</p><ul><li>ADMV Schotter Cup</li></ul>
LAST-MODIFIED:20240712T102648Z
SEQUENCE:0
X-ACCESS:1
X-HITS:2740
X-COLOR:0837a3
X-SHOW-END-TIME:1
END:VEVENT
BEGIN:VEVENT
DTSTART;VALUE=DATE:20240831
DTEND;VALUE=DATE:20240901
UID:F72D40E1-E6C9-47A6-9E95-53D4024E1E5F
SUMMARY:20. ADMV-Rallye Grünhain &<br>8. ADMV-Histo-Rallye Grünhain
CREATED:20240712T103228Z
DTSTAMP:20240712T103228Z
URL:https://admv.de/index.php/de/motorsport/termine/20-admv-rallye-gruenhain-br-8-admv-histo-rallye-gruenhain
DESCRIPTION:Wertungen für\N\NADMV Rallye Meisterschaft\NADMV Rallye Meisterschaft Sachsen-Anhalt / Berlin-Brandenburg\NADMV Histo Rallye Cup\N
X-ALT-DESC;FMTTYPE=text/html:<p>Wertungen für</p><ul><li>ADMV Rallye Meisterschaft</li><li>ADMV Rallye Meisterschaft Sachsen-Anhalt / Berlin-Brandenburg</li><li>ADMV Histo Rallye Cup</li></ul>
LAST-MODIFIED:20240712T105642Z
SEQUENCE:1454
LOCATION:Zwönitzer Straße 19\, 08344 Grünhain\, Saxony\, Deutschland
GEO:50.58168850;12.80673390
X-LOCATION-DISPLAYNAME:Grünhain
X-ACCESS:1
X-HITS:4823
X-COLOR:0837a3
X-SHOW-END-TIME:1
END:VEVENT
BEGIN:VEVENT
DTSTART;VALUE=DATE:20240914
DTEND;VALUE=DATE:20240915
UID:5473DB7D-B47E-4AB4-BE36-DC581FD0E15C
SUMMARY:19. ADMV-Rallye Kurstadt Bad Schmiedeberg &<br>9. ADMV-Histo-Rallye Kurstadt Bad Schmiedeberg
CREATED:20240712T103403Z
DTSTAMP:20240712T103403Z
URL:https://admv.de/index.php/de/motorsport/termine/19-admv-rallye-kurstadt-bad-schmiedeberg-br-9-admv-histo-rallye-kurstadt-bad-schmiedeberg
DESCRIPTION:Wertungen für\N\NADMV Rallye Meisterschaft\NADMV Rallye Meisterschaft Sachsen-Anhalt / Berlin-Brandenburg\NADMV Schotter Cup\NADMV Histo Rallye Cup\N
X-ALT-DESC;FMTTYPE=text/html:<p>Wertungen für</p><ul><li>ADMV Rallye Meisterschaft</li><li>ADMV Rallye Meisterschaft Sachsen-Anhalt / Berlin-Brandenburg</li><li>ADMV Schotter Cup</li><li>ADMV Histo Rallye Cup</li></ul>
LAST-MODIFIED:20240712T103434Z
SEQUENCE:31
LOCATION:Luisenstraße 38b\, 06905 Bad Schmiedeberg\, Saxony-Anhalt\, Deutschland
GEO:51.68837750;12.74092360
X-LOCATION-DISPLAYNAME:Bad Schmiedeberg
X-ACCESS:1
X-HITS:4208
X-COLOR:0837a3
X-SHOW-END-TIME:1
END:VEVENT
BEGIN:VEVENT
DTSTART;VALUE=DATE:20241005
DTEND;VALUE=DATE:20241006
UID:8B0ACB75-4E6A-4F42-A34F-D5B78AFFB914
SUMMARY:51. PRS-Havellandrallye “Durch den Fläming”
CREATED:20240712T103731Z
DTSTAMP:20240712T103731Z
URL:https://admv.de/index.php/de/motorsport/termine/51-prs-havellandrallye-durch-den-flaeming
DESCRIPTION:Wertungen für\N\NADMV Rallye Meisterschaft\NADMV Rallye Meisterschaft Sachsen-Anhalt / Berlin-Brandenburg\NADMV Schotter Cup\N
X-ALT-DESC;FMTTYPE=text/html:<p>Wertungen für</p><ul><li>ADMV Rallye Meisterschaft</li><li>ADMV Rallye Meisterschaft Sachsen-Anhalt / Berlin-Brandenburg</li><li>ADMV Schotter Cup</li></ul>
LAST-MODIFIED:20240712T103731Z
SEQUENCE:0
LOCATION:Brandenburger Straße 13b\, 14641 Friesack\, Brandenburg\, Deutschland
GEO:52.62444375;12.68472638
X-LOCATION-DISPLAYNAME:Havelland
X-ACCESS:1
X-HITS:4985
X-COLOR:0837a3
X-SHOW-END-TIME:1
END:VEVENT
BEGIN:VEVENT
DTSTART;VALUE=DATE:20241031
DTEND;VALUE=DATE:20241103
UID:62A8DBAE-4D6B-4842-8936-F7B4813A94BF
SUMMARY:27. Int. ADMV-Lausitz-Rallye
CREATED:20240712T103929Z
DTSTAMP:20240712T103929Z
URL:https://admv.de/index.php/de/motorsport/termine/27-int-admv-lausitz-rallye
DESCRIPTION:Wertungen für\N\NADMV Rallye Meisterschaft\NADMV Schotter Cup\N
X-ALT-DESC;FMTTYPE=text/html:<p>Wertungen für</p><ul><li>ADMV Rallye Meisterschaft</li><li>ADMV Schotter Cup</li></ul>
LAST-MODIFIED:20240712T103929Z
SEQUENCE:0
LOCATION:S 131\, 02943 Boxberg/O.L. - Hamor\, Saxony\, Deutschland
GEO:51.38793365;14.58739004
X-LOCATION-DISPLAYNAME:Boxberg/O.L. - Hamor
X-ACCESS:1
X-HITS:4841
X-COLOR:0837a3
X-SHOW-END-TIME:1
END:VEVENT
BEGIN:VEVENT
DTSTART;VALUE=DATE:20250215
DTEND;VALUE=DATE:20250216
UID:EEB385CB-9DFA-4745-87A7-6E45DFF45D69
SUMMARY:2. ADAC-Hochtaunus-Rallye Weilrod
CREATED:20250204T123729Z
DTSTAMP:20250204T123729Z
URL:https://admv.de/index.php/de/motorsport/termine/2-adac-hochtaunus-rallye-weilrod
DESCRIPTION:SC
X-ALT-DESC;FMTTYPE=text/html:<p>SC</p>
LAST-MODIFIED:20250204T123934Z
SEQUENCE:125
LOCATION:K 754\, 61276 Cratzenbach\, Hessen\, Deutschland
GEO:50.33067280;8.39090330
X-LOCATION-DISPLAYNAME:Weilrod
X-ACCESS:1
X-HITS:1990
X-COLOR:0837a3
X-SHOW-END-TIME:1
END:VEVENT
BEGIN:VEVENT
DTSTART;VALUE=DATE:20250308
DTEND;VALUE=DATE:20250309
UID:01092FB8-E4C0-4A09-81EE-8CBA1D5812CE
SUMMARY:60. ADMV-Rallye Lutherstadt Wittenberg R70 & 7. ADMV-Histo-Rallye Lutherstadt Wittenberg
CREATED:20250204T123835Z
DTSTAMP:20250204T123835Z
URL:https://admv.de/index.php/de/motorsport/termine/60-admv-rallye-lutherstadt-wittenberg-r70-7-admv-histo-rallye-lutherstadt-wittenberg
DESCRIPTION:ARM, ARP, AHRC, SA/BB, SC
X-ALT-DESC;FMTTYPE=text/html:<p>ARM, ARP, AHRC, SA/BB, SC</p>
LAST-MODIFIED:20250204T124119Z
SEQUENCE:164
LOCATION:Jüdenstraße 31\, 06886 Wittenberg\, Saxony-Anhalt\, Deutschland
GEO:51.86665270;12.64676100
X-LOCATION-DISPLAYNAME:Wittenberg
X-ACCESS:1
X-HITS:3692
X-COLOR:0837a3
X-SHOW-END-TIME:1
END:VEVENT
BEGIN:VEVENT
DTSTART;VALUE=DATE:20250329
DTEND;VALUE=DATE:20250330
UID:F1CB2C7F-ED24-49B1-B8EA-E37677C3624B
SUMMARY:60. ADAC-Rallye Erzgebirge 
CREATED:20250204T123926Z
DTSTAMP:20250204T123926Z
URL:https://admv.de/index.php/de/motorsport/termine/60-adac-rallye-erzgebirge
DESCRIPTION:ARM
X-ALT-DESC;FMTTYPE=text/html:<p>ARM</p>
LAST-MODIFIED:20250204T123926Z
SEQUENCE:0
LOCATION:Parkstraße 4b\, 09366 Stollberg\, Sachsen\, Deutschland
GEO:50.70877340;12.77626070
X-LOCATION-DISPLAYNAME:Stollberg
X-ACCESS:1
X-HITS:4116
X-COLOR:0837a3
X-SHOW-END-TIME:1
END:VEVENT
BEGIN:VEVENT
DTSTART;VALUE=DATE:20250412
DTEND;VALUE=DATE:20250413
UID:9C17BB34-C060-4CE5-9DBB-926C0F0DA20D
SUMMARY:53. ADAC-Roland-Rallye R70 &17. ADAC-Roland-Gleichmäßigkeitsprüfung
CREATED:20250204T124025Z
DTSTAMP:20250204T124025Z
URL:https://admv.de/index.php/de/motorsport/termine/53-adac-roland-rallye-r70-17-adac-roland-gleichmaessigkeitspruefung
DESCRIPTION:ARM, ARP, AHRC, SA/BB, SC
X-ALT-DESC;FMTTYPE=text/html:<p>ARM, ARP, AHRC, SA/BB, SC</p>
LAST-MODIFIED:20250204T124141Z
SEQUENCE:76
LOCATION:Georgengasse 8\, 99734 Nordhausen\, Thüringen\, Deutschland
GEO:51.50515740;10.79253170
X-LOCATION-DISPLAYNAME:Nordhausen
X-ACCESS:1
X-HITS:4115
X-COLOR:0837a3
X-SHOW-END-TIME:1
END:VEVENT
BEGIN:VEVENT
DTSTART;VALUE=DATE:20250510
DTEND;VALUE=DATE:20250511
UID:74402FCB-F137-4538-A767-6E2BA105AFAC
SUMMARY:24. RSG-Fontane-Rallye Neuruppin R35 & 9. RSG-Fontane-Histo-Rallye 
CREATED:20250204T124221Z
DTSTAMP:20250204T124221Z
URL:https://admv.de/index.php/de/motorsport/termine/24-rsg-fontane-rallye-neuruppin-r35-9-rsg-fontane-histo-rallye
DESCRIPTION:ARP, SA/BB
X-ALT-DESC;FMTTYPE=text/html:<p>ARP, SA/BB</p>
LAST-MODIFIED:20250204T124221Z
SEQUENCE:0
LOCATION:Siechenstraße\, 16816 Neuruppin\, Brandenburg\, Deutschland
GEO:52.92438590;12.80929190
X-LOCATION-DISPLAYNAME:Neuruppin
X-ACCESS:1
X-HITS:4553
X-COLOR:0837a3
X-SHOW-END-TIME:1
END:VEVENT
BEGIN:VEVENT
DTSTART;VALUE=DATE:20250614
DTEND;VALUE=DATE:20250615
UID:D1F1E616-9423-4FFF-B0B6-E7F63EF4CE6F
SUMMARY:52. ADMV-Osterburg-Rallye R35 & 8. ADMV-Histo-Rallye Osterburg 
CREATED:20250204T124257Z
DTSTAMP:20250204T124257Z
URL:https://admv.de/index.php/de/motorsport/termine/52-admv-osterburg-rallye-r35-8-admv-histo-rallye-osterburg
DESCRIPTION:ARP
X-ALT-DESC;FMTTYPE=text/html:<p>ARP</p>
LAST-MODIFIED:20250204T124257Z
SEQUENCE:0
LOCATION:Forstweg\, 07570 Weida\, Thuringia\, Deutschland
GEO:50.75814260;12.04700630
X-LOCATION-DISPLAYNAME:Weida
X-ACCESS:1
X-HITS:5072
X-COLOR:0837a3
X-SHOW-END-TIME:1
END:VEVENT
BEGIN:VEVENT
DTSTART;VALUE=DATE:20250712
DTEND;VALUE=DATE:20250713
UID:9B446844-86EF-4A31-93C5-F23A61EA1112
SUMMARY:12. ADAC-Rallye Bergring Teterow - <font color=red>abgesagt!</font>
CREATED:20250204T124343Z
DTSTAMP:20250204T124343Z
URL:https://admv.de/index.php/de/motorsport/termine/12-adac-rallye-bergring-teterow
DESCRIPTION:ARM, ARP, SA/BB, SC
X-ALT-DESC;FMTTYPE=text/html:<p>ARM, ARP, SA/BB, SC</p>
LAST-MODIFIED:20250307T063046Z
SEQUENCE:2656023
LOCATION:Waldstraße\, 17166 Teterow\, Mecklenburg-Vorpommern\, Deutschland
GEO:53.79330945;12.54770692
X-LOCATION-DISPLAYNAME:Bergring Teterow
X-ACCESS:1
X-HITS:5117
X-COLOR:0837a3
X-SHOW-END-TIME:1
END:VEVENT
BEGIN:VEVENT
DTSTART;VALUE=DATE:20250802
DTEND;VALUE=DATE:20250803
UID:EABA20BE-EE9B-4515-8B2E-653518B069BA
SUMMARY:60. ADAC-Holsten-Rallye
CREATED:20250204T124413Z
DTSTAMP:20250204T124413Z
URL:https://admv.de/index.php/de/motorsport/termine/60-adac-holsten-rallye
LAST-MODIFIED:20250204T124413Z
SEQUENCE:0
LOCATION:Strandstraße\, 23777 Süssau\, Schleswig-Holstein\, Deutschland
GEO:54.27347330;11.05755680
X-LOCATION-DISPLAYNAME:Süssau
X-ACCESS:1
X-HITS:5053
X-COLOR:0837a3
X-SHOW-END-TIME:1
END:VEVENT
BEGIN:VEVENT
DTSTART;VALUE=DATE:20250906
DTEND;VALUE=DATE:20250907
UID:98E26E51-C85B-4A68-AD9A-3087566A1AF1
SUMMARY:20. ADMV-Rallye Kurstadt Bad Schmiedeberg R70 & 10. ADMV-Histo-Rallye Kurstadt Bad Schmiedeberg
CREATED:20250204T124457Z
DTSTAMP:20250204T124457Z
URL:https://admv.de/index.php/de/motorsport/termine/20-admv-rallye-kurstadt-bad-schmiedeberg-r70-10-admv-histo-rallye-kurstadt-bad-schmiedeberg
DESCRIPTION:ARM, ARP, AHRC, SA/BB, SC
X-ALT-DESC;FMTTYPE=text/html:<p>ARM, ARP, AHRC, SA/BB, SC</p>
LAST-MODIFIED:20250204T124457Z
SEQUENCE:0
LOCATION:Luisenstraße 38b\, 06905 Bad Schmiedeberg\, Saxony-Anhalt\, Deutschland
GEO:51.68837750;12.74092360
X-LOCATION-DISPLAYNAME:Bad Schmiedeberg
X-ACCESS:1
X-HITS:8763
X-COLOR:0837a3
X-SHOW-END-TIME:1
END:VEVENT
BEGIN:VEVENT
DTSTART;VALUE=DATE:20250913
DTEND;VALUE=DATE:20250914
UID:D0547206-E101-42D6-8079-FB783976934E
SUMMARY:21. ADMV-Rallye Grünhain R35 & 9. ADMV-Histo-Rallye Grünhain 
CREATED:20250204T124542Z
DTSTAMP:20250204T124542Z
URL:https://admv.de/index.php/de/motorsport/termine/21-admv-rallye-gruenhain-r35-x-9-admv-histo-rallye-gruenhain
DESCRIPTION:ARP (Ersatzlauf für SA/BB)
X-ALT-DESC;FMTTYPE=text/html:<p>ARP (Ersatzlauf für SA/BB)</p>
LAST-MODIFIED:20250204T124824Z
SEQUENCE:162
LOCATION:Zwönitzer Straße 19\, 08344 Grünhain\, Saxony\, Deutschland
GEO:50.58168850;12.80673390
X-LOCATION-DISPLAYNAME:Grünhain
X-ACCESS:1
X-HITS:14968
X-COLOR:0837a3
X-SHOW-END-TIME:1
END:VEVENT
BEGIN:VEVENT
DTSTART;VALUE=DATE:20251011
DTEND;VALUE=DATE:20251012
UID:57F34852-1675-4559-B403-CC556C74A7C0
SUMMARY:52. PRS-Havellandrallye „Durch den Fläming“
CREATED:20250204T124608Z
DTSTAMP:20250204T124608Z
URL:https://admv.de/index.php/de/motorsport/termine/52-prs-havellandrallye-durch-den-flaeming
LAST-MODIFIED:20250204T124608Z
SEQUENCE:0
LOCATION:Grenzelweg\, Brandenburg\, Deutschland
GEO:52.22881910;12.95692660
X-LOCATION-DISPLAYNAME:Beelitz
X-ACCESS:1
X-HITS:6771
X-COLOR:0837a3
X-SHOW-END-TIME:1
END:VEVENT
BEGIN:VEVENT
DTSTART;VALUE=DATE:20251101
DTEND;VALUE=DATE:20251102
UID:069D3096-A971-4E06-BC18-402B66FDE3CD
SUMMARY:28. ADMV-Lausitz-Rallye
CREATED:20250204T124645Z
DTSTAMP:20250204T124645Z
URL:https://admv.de/index.php/de/motorsport/termine/28-admv-lausitz-rallye
DESCRIPTION:ARM, SC
X-ALT-DESC;FMTTYPE=text/html:<p>ARM, SC</p>
LAST-MODIFIED:20250204T124645Z
SEQUENCE:0
LOCATION:S 131\, 02943 Boxberg/O.L. - Hamor\, Saxony\, Deutschland
GEO:51.38793365;14.58739004
X-LOCATION-DISPLAYNAME:Boxberg/O.L. - Hamor
X-ACCESS:1
X-HITS:6047
X-COLOR:0837a3
X-SHOW-END-TIME:1
END:VEVENT
BEGIN:VEVENT
DTSTART;VALUE=DATE:20260215
DTEND;VALUE=DATE:20260216
UID:096FCC28-4412-445A-8661-3662C383A2D5
SUMMARY:2. Hochtaunus Rallye Weilrod (R35)
CREATED:20260107T112803Z
DTSTAMP:20260107T112803Z
URL:https://admv.de/index.php/de/motorsport/termine/2-hochtaunus-rallye-weilrod-r35
LAST-MODIFIED:20260107T112803Z
SEQUENCE:0
LOCATION:K 754\, 61276 Cratzenbach\, Hessen\, Deutschland
GEO:50.33067280;8.39090330
X-LOCATION-DISPLAYNAME:Weilrod
X-ACCESS:1
X-HITS:2358
X-COLOR:0837a3
X-SHOW-END-TIME:1
END:VEVENT
BEGIN:VEVENT
DTSTART;VALUE=DATE:20260307
DTEND;VALUE=DATE:20260308
UID:16F4F4DC-3EF6-48C6-9534-F375901D4A28
SUMMARY:61. ADMV-Rallye Lutherstadt Wittenberg (R70) & 8. ADMV-Histo-Rallye Lutherstadt Wittenberg (Histo)
CREATED:20260107T112841Z
DTSTAMP:20260107T112841Z
URL:https://admv.de/index.php/de/motorsport/termine/21-admv-rallye-kurstadt-bad-schmiedeberg-r70
LAST-MODIFIED:20260107T114126Z
SEQUENCE:765
LOCATION:Jüdenstraße 31\, 06886 Wittenberg\, Saxony-Anhalt\, Deutschland
GEO:51.86665270;12.64676100
X-LOCATION-DISPLAYNAME:Wittenberg
X-ACCESS:1
X-HITS:2435
X-COLOR:0837a3
X-SHOW-END-TIME:1
END:VEVENT
BEGIN:VEVENT
DTSTART;VALUE=DATE:20260328
DTEND;VALUE=DATE:20260329
UID:5D5683EE-2F83-44E6-AA73-11D7912DF853
SUMMARY:61. ADAC-Rallye Erzgebirge (Nat. A)
CREATED:20260107T113144Z
DTSTAMP:20260107T113144Z
URL:https://admv.de/index.php/de/motorsport/termine/61-adac-rallye-erzgebirge-nat-a
LAST-MODIFIED:20260107T114138Z
SEQUENCE:594
LOCATION:Parkstraße 4b\, 09366 Stollberg\, Sachsen\, Deutschland
GEO:50.70877340;12.77626070
X-LOCATION-DISPLAYNAME:Stollberg
X-ACCESS:1
X-HITS:2502
X-COLOR:0837a3
X-SHOW-END-TIME:1
END:VEVENT
BEGIN:VEVENT
DTSTART;VALUE=DATE:20260418
DTEND;VALUE=DATE:20260419
UID:EF4FC9F4-F4BA-42FB-A8AD-62DBE96F0B7D
SUMMARY:54. ADAC-Roland-Rallye Nordhausen (R70) & 18. ADAC-Roland-Gleichmäßigkeitsprüfung (Histo)
CREATED:20260107T113225Z
DTSTAMP:20260107T113225Z
URL:https://admv.de/index.php/de/motorsport/termine/54-adac-roland-rallye-nordhausen-r70-18-adac-roland-gleichmaessigkeitspruefung-histo
LAST-MODIFIED:20260107T114147Z
SEQUENCE:562
LOCATION:Georgengasse 8\, 99734 Nordhausen\, Thüringen\, Deutschland
GEO:51.50515740;10.79253170
X-LOCATION-DISPLAYNAME:Nordhausen
X-ACCESS:1
X-HITS:3135
X-COLOR:0837a3
X-SHOW-END-TIME:1
END:VEVENT
BEGIN:VEVENT
DTSTART;VALUE=DATE:20260509
DTEND;VALUE=DATE:20260510
UID:FB8D9B24-5B41-4F67-873A-C52193FA5514
SUMMARY:25. RSG-Fontane-Rallye (R35) & 10. RSG-Fontane-Histo-Rallye (Histo)
CREATED:20260107T113745Z
DTSTAMP:20260107T113745Z
URL:https://admv.de/index.php/de/motorsport/termine/25-rsg-fontane-rallye-r35-10-rsg-fontane-histo-rallye-histo
LAST-MODIFIED:20260107T114156Z
SEQUENCE:251
LOCATION:Siechenstraße\, 16816 Neuruppin\, Brandenburg\, Deutschland
GEO:52.92438590;12.80929190
X-LOCATION-DISPLAYNAME:Neuruppin
X-ACCESS:1
X-HITS:2457
X-COLOR:0837a3
X-SHOW-END-TIME:1
END:VEVENT
BEGIN:VEVENT
DTSTART;VALUE=DATE:20260620
DTEND;VALUE=DATE:20260621
UID:65F50D04-43D6-4383-891D-6C3D87453C9C
SUMMARY:53. ADMV-Osterburg-Rallye (R35) & 9. ADMV-Histo-Rallye Osterburg (Histo)
CREATED:20260107T114239Z
DTSTAMP:20260107T114239Z
URL:https://admv.de/index.php/de/motorsport/termine/53-admv-osterburg-rallye-r35-9-admv-histo-rallye-osterburg-histo
LAST-MODIFIED:20260107T114239Z
SEQUENCE:0
LOCATION:Forstweg\, 07570 Weida\, Thuringia\, Deutschland
GEO:50.75814260;12.04700630
X-LOCATION-DISPLAYNAME:Weida
X-ACCESS:1
X-HITS:2406
X-COLOR:0837a3
X-SHOW-END-TIME:1
END:VEVENT
BEGIN:VEVENT
DTSTART;VALUE=DATE:20260701
DTEND;VALUE=DATE:20260801
UID:E63F8077-A50E-49DC-985F-BD3D71AC6D87
SUMMARY:12. ADAC-Rallye Bergring Teterow (R35)<br><font size=3 color=red>noch nicht terminiert</font>
CREATED:20260107T114341Z
DTSTAMP:20260107T114341Z
URL:https://admv.de/index.php/de/motorsport/termine/12-adac-rallye-bergring-teterow-r35-b-font-color-red-noch-nicht-terminiert-font-b
LAST-MODIFIED:20260107T114434Z
SEQUENCE:53
X-ACCESS:1
X-HITS:1180
X-COLOR:0837a3
X-SHOW-END-TIME:1
END:VEVENT
BEGIN:VEVENT
DTSTART;VALUE=DATE:20260829
DTEND;VALUE=DATE:20260830
UID:09B29BD2-0F7B-4F31-8215-A176A786765C
SUMMARY:21. ADMV-Rallye Kurstadt Bad Schmiedeberg (R70) & 11. ADMV-Histo-Rallye Kurstadt Bad Schmiedeberg (Histo)
CREATED:20260107T114513Z
DTSTAMP:20260107T114513Z
URL:https://admv.de/index.php/de/motorsport/termine/21-admv-rallye-kurstadt-bad-schmiedeberg-r70-11-admv-histo-rallye-kurstadt-bad-schmiedeberg-histo
LAST-MODIFIED:20260107T114513Z
SEQUENCE:0
LOCATION:Luisenstraße 38b\, 06905 Bad Schmiedeberg\, Saxony-Anhalt\, Deutschland
GEO:51.68837750;12.74092360
X-LOCATION-DISPLAYNAME:Bad Schmiedeberg
X-ACCESS:1
X-HITS:2307
X-COLOR:0837a3
X-SHOW-END-TIME:1
END:VEVENT
BEGIN:VEVENT
DTSTART;VALUE=DATE:20261017
DTEND;VALUE=DATE:20261018
UID:853EAE76-B35D-4CD4-A161-588844BCB65D
SUMMARY:53. PRS-Havellandrallye „Durch den Fläming“ (R70)
CREATED:20260107T114614Z
DTSTAMP:20260107T114614Z
URL:https://admv.de/index.php/de/motorsport/termine/53-prs-havellandrallye-durch-den-flaeming-r70
LAST-MODIFIED:20260107T114614Z
SEQUENCE:0
LOCATION:Grenzelweg\, Brandenburg\, Deutschland
GEO:52.22881910;12.95692660
X-LOCATION-DISPLAYNAME:Beelitz
X-ACCESS:1
X-HITS:2405
X-COLOR:0837a3
X-SHOW-END-TIME:1
END:VEVENT
BEGIN:VEVENT
DTSTART;VALUE=DATE:20261107
DTEND;VALUE=DATE:20261108
UID:A637F3AC-825B-4450-BF05-C74431822E9F
SUMMARY:29. Int. ADMV-Lausitz-Rallye (Int.)
CREATED:20260107T114648Z
DTSTAMP:20260107T114648Z
URL:https://admv.de/index.php/de/motorsport/termine/29-int-admv-lausitz-rallye-int
LAST-MODIFIED:20260107T114648Z
SEQUENCE:0
LOCATION:S 131\, 02943 Boxberg/O.L. - Hamor\, Saxony\, Deutschland
GEO:51.38793365;14.58739004
X-LOCATION-DISPLAYNAME:Boxberg/O.L. - Hamor
X-ACCESS:1
X-HITS:2359
X-COLOR:0837a3
X-SHOW-END-TIME:1
END:VEVENT
END:VCALENDAR